BEGIN:VCALENDAR
VERSION:2.0
PRODID:-//Federación de Tenis de la Comunidad Valenciana - ECPv4.8.2//NONSGML v1.0//EN
CALSCALE:GREGORIAN
METHOD:PUBLISH
X-WR-CALNAME:Federación de Tenis de la Comunidad Valenciana
X-ORIGINAL-URL:https://www.ftcv.es
X-WR-CALDESC:Eventos para Federación de Tenis de la Comunidad Valenciana
BEGIN:VEVENT
DTSTART;VALUE=DATE:20200201
DTEND;VALUE=DATE:20200203
DTSTAMP:20260424T040749
CREATED:20191213T083208Z
LAST-MODIFIED:20191213T083208Z
UID:21964-1580515200-1580687999@www.ftcv.es
SUMMARY:(17) TORNEO MATCH POINT XÁTIVA INVIERNO
DESCRIPTION:SEDE:CLUB TENIS CAMP BIXQUERT \nFechas: 01/02-16/02 \nFase Previa: \nConsolación:SI \nMS:BENJ – ALV- INF- SUB21 \nFM:BENJ-ALV-INF-SUB21 \nPrecio: 18€ – 20€ \nCierre Inscripción: 29/01/2020 – 12 horas \nSorteo: 30/01/2020 – 10 horas \nInscripción: www.matchpointxativa.com \nJuez Árbitro: XIMO REVERT CUENCA \n
URL:https://www.ftcv.es/torneo/17-torneo-match-point-xativa-invierno/2020-02-01/
LOCATION:CLUB TENIS CAMP BIXQUERT\, Camino D'Alboi\, s/n\, Xàtiva\, VALENCIA\, 46800\, Spain
CATEGORIES:ALEVÍN,BENJAMÍN,INFANTIL,SUB21
ORGANIZER;CN="CLUB%20TENIS%20CAMP%20BIXQUERT":MAILTO:teniscompeticionbixquert@gmail.com
END:VEVENT
BEGIN:VEVENT
DTSTART;VALUE=DATE:20200201
DTEND;VALUE=DATE:20200203
DTSTAMP:20260424T040749
CREATED:20191213T083909Z
LAST-MODIFIED:20191213T083909Z
UID:21968-1580515200-1580687999@www.ftcv.es
SUMMARY:(18) TORNEO FINES DE SEMANA TECNIFIBRE
DESCRIPTION:SEDE:CLUB TENIS SUECA \nFechas:01/02 – 23/02 \nFase Previa:SI \nConsolación:SI \nMS:BENJ – ALV- INF- CADETE- ABS \nFM:BENJ-ALV-INF-CADETE-ABS \nPrecio: 18-22€ \nCierre Inscripción:29/01/2020 – 20 horas \nSorteo:30/01/2020 – 10 horas \nInscripción: benjaf89@hotmail.com – 670770448 \nJuez Árbitro: CARLES BLAY MONTOYA \n
URL:https://www.ftcv.es/torneo/18-torneo-fines-de-semana-tecnifibre/2020-02-01/
LOCATION:CLUB TENIS SUECA\, Partida Sendroses\, 0\, Sueca\, VALENCIA\, 46410\, Spain
CATEGORIES:ABSOLUTO,ALEVÍN,BENJAMÍN,CADETE,INFANTIL
ORGANIZER;CN="CLUB%20DE%20TENIS%20SUECA":MAILTO:ctsueca@dectra.es
END:VEVENT
BEGIN:VEVENT
DTSTART;VALUE=DATE:20200201
DTEND;VALUE=DATE:20200203
DTSTAMP:20260424T040749
CREATED:20191213T084831Z
LAST-MODIFIED:20200121T111953Z
UID:21973-1580515200-1580687999@www.ftcv.es
SUMMARY:(19) VALENCIA TENNIS TOUR - FASE 1
DESCRIPTION:SEDE:CLUB TENIS VALENCIA \nFechas:01/02 – 23/02 \nFase Previa:NO \nConsolación:NO \nMS:BENJ-ALV-INF-CADETE \nFM:BENJ-ALV-INF-CADETE \nPrecio:20-22€ \nCierre Inscripción:27/01/2020 \nSorteo:29/01/2020 – 12 horas \nInscripción:director@valenciatennistour.es – 607721123 \nJuez Árbitro:FERNANDO VIVES ALBIOL \n
URL:https://www.ftcv.es/torneo/19-valencia-tennis-tour/2020-02-01/
LOCATION:CLUB DE TENIS VALENCIA\, BOTANICO CAVANILLES\, 7\, VALENCIA\, VALENCIA\, 46010\, Spain
CATEGORIES:ALEVÍN,BENJAMÍN,CADETE,INFANTIL
ORGANIZER;CN="CLUB%20DE%20TENIS%20VALENCIA":MAILTO:deportiva@clubdetenisvalencia.es
END:VEVENT
BEGIN:VEVENT
DTSTART;VALUE=DATE:20200201
DTEND;VALUE=DATE:20200203
DTSTAMP:20260424T040749
CREATED:20191213T121451Z
LAST-MODIFIED:20191213T121451Z
UID:22030-1580515200-1580687999@www.ftcv.es
SUMMARY:(16) TORNEO FS+Q TENIS LEADERTECNA
DESCRIPTION:SEDE: CLUB TENIS NÁQUERA \nFechas: 01/02 – 09/02 \nFase Previa:NO \nConsolación:SI \nMS:BENJ-ALV-INF-JUNIOR \nFM: \nPrecio: 18€ \nCierre Inscripción:30/01/2020 a las 18 horas \nSorteo: 31/01/2020  a las 12 horas \nInscripción: torneos@tenis92.com – 678705977 \nJuez Árbitro:LUIS MIGUEL MARTÍNEZ \n
URL:https://www.ftcv.es/torneo/16-torneo-fsq-tenis-leadertecna/2020-02-01/
LOCATION:CLUB DE TENIS NAQUERA\, TURIA 4\, URB. BONANZA\, NAQUERA\, VALENCIA\, 46119\, Spain
CATEGORIES:ALEVÍN,BENJAMÍN,INFANTIL,JUNIOR
END:VEVENT
END:VCALENDAR