BEGIN:VCALENDAR
VERSION:2.0
PRODID:-//Federación de Tenis de la Comunidad Valenciana - ECPv4.8.2//NONSGML v1.0//EN
CALSCALE:GREGORIAN
METHOD:PUBLISH
X-WR-CALNAME:Federación de Tenis de la Comunidad Valenciana
X-ORIGINAL-URL:https://www.ftcv.es
X-WR-CALDESC:Eventos para Federación de Tenis de la Comunidad Valenciana
BEGIN:VEVENT
DTSTART;VALUE=DATE:20200831
DTEND;VALUE=DATE:20200907
DTSTAMP:20260425T224732
CREATED:20200210T085727Z
LAST-MODIFIED:20200722T084128Z
UID:23325-1598832000-1599436799@www.ftcv.es
SUMMARY:(187) XI YOUNG TENNIS TOUR AGOSTO TECNIFIBRE
DESCRIPTION:SEDE: C MALVARROSA VALENCIA TC \nFechas: 31/08 – 06/09 \nFase Previa:SI \nConsolación:SI \nMS:BENJ-ALEV-INF-CADETE-ABSOLUTO \nFM:BENJ-ALEV-INF-CADETE-ABSOLUTO \nPrecio:20-25 € \nCierre Inscripción:28/08 – 20 horas \nSorteo: 29/08 – 10 horas \nInscripción: www.youngtennistour.com \nJuez Árbitro: Carles Blay \n
URL:https://www.ftcv.es/torneo/187-torneo-fines-de-semana-tecnifibre/
LOCATION:MALVARROSA TENNIS CENTER
CATEGORIES:ABSOLUTO,ALEVÍN,BENJAMÍN,CADETE,INFANTIL
ORGANIZER;CN="Benjam%C3%ADn%20Ferrer":MAILTO:benjaf89@hotmail.com
END:VEVENT
END:VCALENDAR