BEGIN:VCALENDAR
VERSION:2.0
PRODID:-//Federación de Tenis de la Comunidad Valenciana - ECPv4.8.2//NONSGML v1.0//EN
CALSCALE:GREGORIAN
METHOD:PUBLISH
X-WR-CALNAME:Federación de Tenis de la Comunidad Valenciana
X-ORIGINAL-URL:https://www.ftcv.es
X-WR-CALDESC:Eventos para Federación de Tenis de la Comunidad Valenciana
BEGIN:VEVENT
DTSTART;VALUE=DATE:20200629
DTEND;VALUE=DATE:20200706
DTSTAMP:20260423T084641
CREATED:20200109T123607Z
LAST-MODIFIED:20200629T091400Z
UID:22511-1593388800-1593993599@www.ftcv.es
SUMMARY:(90) XI YOUNG TENNIS TOUR TECNIFIBRE
DESCRIPTION:SEDE: CD PEÑACAÑADA \nFechas: 29/06 – 05/07 \nFase Previa: SI \nConsolación:SI \nMS:BENJ-ALEV-INF-CADETE-ABSOLUTO \nFM:BENJ-ALEV-INF-CADETE-ABSOLUTO \nPrecio:18-22 € \nCierre Inscripción:  \nSorteo: \nInscripción: benjaf89@hotmail.com \nJuez Árbitro:CARLES BLAY \n
URL:https://www.ftcv.es/torneo/90-xi-young-tennis-tour-tecnifibre/
LOCATION:CLUB DEPORTIVO PEÑACAÑADA\, Carrer 135\, 18\, La Canyada\, VALENCIA\, 46182\, Spain
CATEGORIES:ABSOLUTO,ALEVÍN,BENJAMÍN,CADETE,INFANTIL
ORGANIZER;CN="Benjam%C3%ADn%20Ferrer":MAILTO:benjaf89@hotmail.com
END:VEVENT
END:VCALENDAR