BEGIN:VCALENDAR
VERSION:2.0
PRODID:-//Federación de Tenis de la Comunidad Valenciana - ECPv4.8.2//NONSGML v1.0//EN
CALSCALE:GREGORIAN
METHOD:PUBLISH
X-WR-CALNAME:Federación de Tenis de la Comunidad Valenciana
X-ORIGINAL-URL:https://www.ftcv.es
X-WR-CALDESC:Eventos para Federación de Tenis de la Comunidad Valenciana
BEGIN:VEVENT
DTSTART;VALUE=DATE:20191206
DTEND;VALUE=DATE:20191216
DTSTAMP:20260421T043122
CREATED:20190509T131926Z
LAST-MODIFIED:20190828T084552Z
UID:18725-1575590400-1576454399@www.ftcv.es
SUMMARY:XLII CIRC ALICANTINO TENIS - Tº DIPUTACION 2019 - MASTER
DESCRIPTION:SEDE: SDAD TIRO PICHON ELCHE  \n  \nFechas: 06/12 AL 15/12 \nFase Previa: SI \nConsolación: SI \nPrecio: CLASIFICADOS \nCierre Inscripción: CLASIFICADOS \nSorteo: \nInscripción: circuitoalicantinotenis@gmail.com / 639088193 \nJuez Árbitro: JAVIER TOMAS \n
URL:https://www.ftcv.es/torneo/xlii-circ-alicantino-tenis-diputacion-2019-master/
LOCATION:ALICANTE\, ALICANTE
CATEGORIES:ALEVÍN,BENJAMÍN,CADETE,INFANTIL,SUB20
ORGANIZER;CN="CIRCUITO%20ALICANTINO%20TENIS":MAILTO:circuitoalicantinotenis@gmail.com
END:VEVENT
BEGIN:VEVENT
DTSTART;VALUE=DATE:20191214
DTEND;VALUE=DATE:20191222
DTSTAMP:20260421T043122
CREATED:20190906T081414Z
LAST-MODIFIED:20190906T081522Z
UID:20150-1576281600-1576972799@www.ftcv.es
SUMMARY:II Torneo Absoluto Dectra 10º Aniversario
DESCRIPTION:SEDE:  CLUB DE TENIS SUECA \nFechas: Del 14/12 al 21/12 \nFase Previa: SI \nConsolación: NO \nMS: ABSOLUTO 600€ \nFM: ABSOLUTO  600€ \nPrecio: 25€ \nCierre Inscripción: 10/12-12 h \nSorteo: 11/12-12h \nInscripción: ctsueca@dectra.es / 615407036 \nJuez Árbitro:  MIGUEL ANGEL RODRIGO \n
URL:https://www.ftcv.es/torneo/ii-torneo-absoluto-dectra-10o-aniversario/
LOCATION:CLUB TENIS SUECA\, Partida Sendroses\, 0\, Sueca\, VALENCIA\, 46410\, Spain
CATEGORIES:ABSOLUTO
ORGANIZER;CN="CLUB%20DE%20TENIS%20SUECA":MAILTO:ctsueca@dectra.es
END:VEVENT
END:VCALENDAR