BEGIN:VCALENDAR
VERSION:2.0
PRODID:-//Federación de Tenis de la Comunidad Valenciana - ECPv4.8.2//NONSGML v1.0//EN
CALSCALE:GREGORIAN
METHOD:PUBLISH
X-WR-CALNAME:Federación de Tenis de la Comunidad Valenciana
X-ORIGINAL-URL:https://www.ftcv.es
X-WR-CALDESC:Eventos para Federación de Tenis de la Comunidad Valenciana
BEGIN:VEVENT
DTSTART;VALUE=DATE:20191206
DTEND;VALUE=DATE:20191216
DTSTAMP:20260423T173916
CREATED:20190509T131926Z
LAST-MODIFIED:20190828T084552Z
UID:18725-1575590400-1576454399@www.ftcv.es
SUMMARY:XLII CIRC ALICANTINO TENIS - Tº DIPUTACION 2019 - MASTER
DESCRIPTION:SEDE: SDAD TIRO PICHON ELCHE  \n  \nFechas: 06/12 AL 15/12 \nFase Previa: SI \nConsolación: SI \nPrecio: CLASIFICADOS \nCierre Inscripción: CLASIFICADOS \nSorteo: \nInscripción: circuitoalicantinotenis@gmail.com / 639088193 \nJuez Árbitro: JAVIER TOMAS \n
URL:https://www.ftcv.es/torneo/xlii-circ-alicantino-tenis-diputacion-2019-master/
LOCATION:ALICANTE\, ALICANTE
CATEGORIES:ALEVÍN,BENJAMÍN,CADETE,INFANTIL,SUB20
ORGANIZER;CN="CIRCUITO%20ALICANTINO%20TENIS":MAILTO:circuitoalicantinotenis@gmail.com
END:VEVENT
BEGIN:VEVENT
DTSTART;VALUE=DATE:20191207
DTEND;VALUE=DATE:20191209
DTSTAMP:20260423T173916
CREATED:20190509T124330Z
LAST-MODIFIED:20190906T081924Z
UID:18693-1575676800-1575849599@www.ftcv.es
SUMMARY:CIRCUITO PROVINCIAL DE VALENCIA - 4ª FASE
DESCRIPTION:SEDE: CT CARLET / ALGE-TENIS \nFechas: 07/12 AL 29/12 \nFase Previa: NO \nConsolación: SI \nMS: B/A/I/C/SUB21 \nFM: B/A/I/C/SUB21 \nPrecio: \nCierre Inscripción: 03/12-12H \nSorteo: 04/12-12H \nInscripción: A TRAVES PLATAFORMA FTCV \nJuez Árbitro: PACO GALINDO \n
URL:https://www.ftcv.es/torneo/circuito-provincial-de-valencia-4a-fase/2019-12-07/
LOCATION:VALENCIA\, VALENCIA
CATEGORIES:ALEVÍN,BENJAMÍN,CADETE,INFANTIL,SUB21
ORGANIZER;CN="FTCV":MAILTO:informacion@ftcv.es
END:VEVENT
BEGIN:VEVENT
DTSTART;VALUE=DATE:20191207
DTEND;VALUE=DATE:20191209
DTSTAMP:20260423T173916
CREATED:20191003T074542Z
LAST-MODIFIED:20191003T074600Z
UID:20604-1575676800-1575849599@www.ftcv.es
SUMMARY:TORNEO JORDYTOUR FS
DESCRIPTION:SEDE: CLUB DE TENIS EL COLLAO \nFechas: 07/12/19 AL 22/12/19 \nFase Previa: NO \nConsolación: NO \nMS: B/A/I/C/ABS \nFM: B/A/I/C/ABS \nPrecio: 20-22 € \nCierre Inscripción: 05/12-20h \nSorteo: 06/12-10h \nInscripción: 649794569 / jordytour@hotmail.com \nJuez Árbitro: JORGE CAMPS \n
URL:https://www.ftcv.es/torneo/torneo-jordytour-fs/2019-12-07/
LOCATION:Club de Tenis El Collao\, CV-370 Km. 7\, Riba-roja de Túria\, VALENCIA\, 46190\, Spain
CATEGORIES:ABSOLUTO,ALEVÍN,BENJAMÍN,CADETE,INFANTIL
ORGANIZER;CN="JORGE%20CAMPS":MAILTO:jordytour@hotmail.com
END:VEVENT
END:VCALENDAR