BEGIN:VCALENDAR
VERSION:2.0
PRODID:-//Federación de Tenis de la Comunidad Valenciana - ECPv4.8.2//NONSGML v1.0//EN
CALSCALE:GREGORIAN
METHOD:PUBLISH
X-WR-CALNAME:Federación de Tenis de la Comunidad Valenciana
X-ORIGINAL-URL:https://www.ftcv.es
X-WR-CALDESC:Eventos para Federación de Tenis de la Comunidad Valenciana
BEGIN:VEVENT
DTSTART;VALUE=DATE:20191125
DTEND;VALUE=DATE:20191202
DTSTAMP:20260424T072925
CREATED:20191106T105305Z
LAST-MODIFIED:20191106T105405Z
UID:21274-1574640000-1575244799@www.ftcv.es
SUMMARY:OPEN DIPUTACION
DESCRIPTION:SEDE:  CLUB DE TENIS BENICARLO \nFechas: 25/11/19 al 01/12/19 \nFase Previa:  NO \nConsolación: SI \nMS: JUNIOR/ ABSOLUTO  (1.200 €) \nFM: JUNIOR / ABSOLUTO (600 €) \nPrecio: 25 € \nCierre Inscripción: 20/11-24 h \nSorteo: 20/11 – 20 h \nInscripción: gipemar2007@hotmail.com / 639667816 \nJuez Árbitro: ANTONIO MATA \n
URL:https://www.ftcv.es/torneo/open-diputacion/
LOCATION:CLUB DE TENIS BENICARLÓ\, Carr Sant Mateu\, Km. 4\, BENICARLÓ\, CASTELLÓN\, 12580\, Spain
CATEGORIES:ABSOLUTO,JUNIOR
ORGANIZER;CN="Gin%C3%A9s%20P%C3%A9rez":MAILTO:gipemar2007@gmail.com
END:VEVENT
BEGIN:VEVENT
DTSTART;VALUE=DATE:20191130
DTEND;VALUE=DATE:20191202
DTSTAMP:20260424T072925
CREATED:20190510T085024Z
LAST-MODIFIED:20190510T085024Z
UID:18799-1575072000-1575244799@www.ftcv.es
SUMMARY:XIV TORNEO NAC CC ALICANTE 2019-Tº IV ANIVERSARIO
DESCRIPTION:SEDE: CT LA ALMAJADA \nFechas: 30/11 AL 8/12 \nFase Previa: NO \nConsolación: SI \nMS: B/A/I/C/ABS \nFM: B/A/I/C/ABS \nPrecio: 20€ \nCierre Inscripción: 27/11-18H \nSorteo: 28/11-18H \nInscripción: torneosclubdecampo@gmail.com / 622737055 \nJuez Árbitro: CARLOS ELIAS \n
URL:https://www.ftcv.es/torneo/xiv-torneo-nac-cc-alicante-2019-iv-aniversario/2019-11-30/
LOCATION:Club de Tenis La Almajada Mutxamel\, C/ DE LA SARDINA\, 1\, MUTXAMEL\, ALICANTE\, 03110\, Spain
CATEGORIES:ABSOLUTO,ALEVÍN,BENJAMÍN,CADETE,INFANTIL
ORGANIZER;CN="CLUB%20TENIS%20LA%20ALMAJADA":MAILTO:torneosclubdecampo@gmail.com
END:VEVENT
BEGIN:VEVENT
DTSTART;VALUE=DATE:20191130
DTEND;VALUE=DATE:20191202
DTSTAMP:20260424T072925
CREATED:20190510T085934Z
LAST-MODIFIED:20190510T085934Z
UID:18804-1575072000-1575244799@www.ftcv.es
SUMMARY:TORNEO INVIERNO BURRIANA
DESCRIPTION:SEDE: CT BURRIANA \nFechas: 30/11 AL 15/12 \nFase Previa: NO \nConsolación: SI \nMS: B/A/I/C/ABS \nFM: B/A/I/C/ABS \nPrecio: \nCierre Inscripción: 27/11-22H \nSorteo: 28/11-22H \nInscripción: escuelacompeticion@gmail.com \nJuez Árbitro: ALAIN VICENT \n
URL:https://www.ftcv.es/torneo/torneo-invierno-burriana/2019-11-30/
LOCATION:CLUB DE TENIS BURRIANA\, Carrer del Migjorn\, 0\, Burriana\, CASTELLÓN\, 12530\, Spain
CATEGORIES:ABSOLUTO,ALEVÍN,BENJAMÍN,CADETE,INFANTIL
ORGANIZER;CN="CLUB%20DE%20TENIS%20BURRIANA":MAILTO:escuelacompeticion@gmail.com
END:VEVENT
END:VCALENDAR