BEGIN:VCALENDAR
VERSION:2.0
PRODID:-//Federación de Tenis de la Comunidad Valenciana - ECPv4.8.2//NONSGML v1.0//EN
CALSCALE:GREGORIAN
METHOD:PUBLISH
X-WR-CALNAME:Federación de Tenis de la Comunidad Valenciana
X-ORIGINAL-URL:https://www.ftcv.es
X-WR-CALDESC:Eventos para Federación de Tenis de la Comunidad Valenciana
BEGIN:VEVENT
DTSTART;VALUE=DATE:20191125
DTEND;VALUE=DATE:20191202
DTSTAMP:20260424T120232
CREATED:20191106T105305Z
LAST-MODIFIED:20191106T105405Z
UID:21274-1574640000-1575244799@www.ftcv.es
SUMMARY:OPEN DIPUTACION
DESCRIPTION:SEDE:  CLUB DE TENIS BENICARLO \nFechas: 25/11/19 al 01/12/19 \nFase Previa:  NO \nConsolación: SI \nMS: JUNIOR/ ABSOLUTO  (1.200 €) \nFM: JUNIOR / ABSOLUTO (600 €) \nPrecio: 25 € \nCierre Inscripción: 20/11-24 h \nSorteo: 20/11 – 20 h \nInscripción: gipemar2007@hotmail.com / 639667816 \nJuez Árbitro: ANTONIO MATA \n
URL:https://www.ftcv.es/torneo/open-diputacion/
LOCATION:CLUB DE TENIS BENICARLÓ\, Carr Sant Mateu\, Km. 4\, BENICARLÓ\, CASTELLÓN\, 12580\, Spain
CATEGORIES:ABSOLUTO,JUNIOR
ORGANIZER;CN="Gin%C3%A9s%20P%C3%A9rez":MAILTO:gipemar2007@gmail.com
END:VEVENT
END:VCALENDAR