BEGIN:VCALENDAR
VERSION:2.0
PRODID:-//Federación de Tenis de la Comunidad Valenciana - ECPv4.8.2//NONSGML v1.0//EN
CALSCALE:GREGORIAN
METHOD:PUBLISH
X-WR-CALNAME:Federación de Tenis de la Comunidad Valenciana
X-ORIGINAL-URL:https://www.ftcv.es
X-WR-CALDESC:Eventos para Federación de Tenis de la Comunidad Valenciana
BEGIN:VEVENT
DTSTART;VALUE=DATE:20200801
DTEND;VALUE=DATE:20200810
DTSTAMP:20260423T085501
CREATED:20200129T145916Z
LAST-MODIFIED:20200129T145916Z
UID:23024-1596240000-1597017599@www.ftcv.es
SUMMARY:(125) 42ª TORNEO CIUDAD DE TORREVIEJA ABSOLUTO PROMESAS Y SENIOR
DESCRIPTION:SEDE: CT TORREVIEJA \nFechas:01/08 – 09 /08 \nFase Previa: SI \nConsolación:SI \nMS:BENJ-ALEV-INF-JUNIOR- ABSOLUTO (2000 €) +35+45+55+65 \nFM:BENJ-ALEV-INF-JUNIOR-ABSOLUTO (1400 €) +35+50 \nPrecio:18-25 € \nCierre Inscripción:30/07 – 20 horas \nSorteo: \nInscripción: clubtenistorrevieja@gmail.com \nJuez Árbitro: David Pérez Lalanda \n
URL:https://www.ftcv.es/torneo/125-42a-torneo-ciudad-de-torrevieja-absoluto-promesas-y-senior/
LOCATION:CLUB TENIS TORREVIEJA\, Calle Tomás Martínez Domenech\, s/n\, Torrevieja\, ALICANTE\, 03186\, Spain
CATEGORIES:ABSOLUTO,ALEVÍN,BENJAMÍN,INFANTIL,JUNIOR,VETERANOS
ORGANIZER;CN="CLUB%20TENIS%20TORREVIEJA":MAILTO:clubtenistorrevieja@gmail.com
END:VEVENT
END:VCALENDAR